BEGIN:VCALENDAR
VERSION:2.0
METHOD:PUBLISH
PRODID:-//imacoda.com//SPD-Web-O-Mat//EN
CALSCALE:GREGORIAN
BEGIN:VTIMEZONE
TZID:Europe/Berlin
BEGIN:DAYLIGHT
TZOFFSETFROM:+0100
RRULE:FREQ=YEARLY;BYMONTH=3;BYDAY=-1SU
DTSTART:19810329T020000
TZNAME:MESZ
TZOFFSETTO:+0200
END:DAYLIGHT
BEGIN:STANDARD
TZOFFSETFROM:+0200
RRULE:FREQ=YEARLY;BYMONTH=10;BYDAY=-1SU
DTSTART:19961027T030000
TZNAME:MEZ
TZOFFSETTO:+0100
END:STANDARD
END:VTIMEZONE
BEGIN:VEVENT
UID:20190205T113629Z-00000427944-LULU@www.bayernspd.de
CREATED:20190205T113629Z
LAST-MODIFIED:20190501T151452Z
DTSTAMP:20190501T151452Z
TRANSP:TRANSPARENT
DTSTART;TZID=Europe/Berlin:20190505T130000
DTEND;TZID=Europe/Berlin:20190505T180000
SUMMARY:WETTERBEDINGTE ABSAGE Europafest Altdorf
LOCATION:Pausenhof Grundschule Altdorf
DESCRIPTION:Termin im Web (SPD-Unterbezirk Nürnberger Land):\nhttps://sp
 d-nuernbergerland.de/termine/?id=427944
END:VEVENT
END:VCALENDAR
